BEGIN:VCALENDAR
VERSION:2.0
PRODID:-//eventon.com NONSGML v1.0//EN
CALSCALE:GREGORIAN
METHOD:PUBLISH
BEGIN:VEVENT
UID:69e72fc558aa2
DTSTAMP:20260421T080525Z
DTSTART:20231114T000000Z
DTEND:20231114T010000Z
LOCATION:
SUMMARY:Comp Team Tryouts
DESCRIPTION:We are holding Comp Team Tryouts on November 13 from 4-5pm at U
 nion Middle School for players looking to transition from Recreational Socc
 er Program or those otherwise not currently registered with another competi
 tive team. You must register in advance to attend tryouts. Register here &g
 t;&gt;\nhttps://losgatosunited.com/events/comp-team-tryouts/
URL:https://losgatosunited.com/events/comp-team-tryouts/
END:VEVENT
END:VCALENDAR